View In:
  ArcGIS JavaScript
  ArcGIS Online Map Viewer
  ArcGIS Earth
Service Description:  GeocacheTerrengWM
Name:  Geocache_WMAS_WGS84/GeocacheTerreng
Description:  GeocacheTerrengWM
Single Fused Map Cache:  true
Tile Info: 
- Height: 256
- Width: 256
- DPI: 96
- 
Levels of Detail:  18
- 
Level ID: 0
[ Start Tile, End Tile ]
- Resolution: 156543.03392800014
- Scale: 5.91657527591555E8
- 
Level ID: 1
[ Start Tile, End Tile ]
- Resolution: 78271.51696399994
- Scale: 2.95828763795777E8
- 
Level ID: 2
[ Start Tile, End Tile ]
- Resolution: 39135.75848200009
- Scale: 1.47914381897889E8
- 
Level ID: 3
[ Start Tile, End Tile ]
- Resolution: 19567.87924099992
- Scale: 7.3957190948944E7
- 
Level ID: 4
[ Start Tile, End Tile ]
- Resolution: 9783.93962049996
- Scale: 3.6978595474472E7
- 
Level ID: 5
[ Start Tile, End Tile ]
- Resolution: 4891.96981024998
- Scale: 1.8489297737236E7
- Format: LERC
- Compression Quality: 0.0
- LERC Error: 0.05
- Origin: X:  -2.0037508342787E7
 Y:  2.0037508342787E7
 
- Spatial Reference: 102100
 (3857)
 LatestVCSWkid(0)
 
Storage Info:
- Storage Format: esriMapCacheStorageModeCompactV2
- Packet Size: 128
Extent:
XMin: -2226387.6992291715
YMin: 7743739.43392393
XMax: 5338515.163479533
YMax: 1.618766892528682E7
Spatial Reference: 102100
 (3857)
 LatestVCSWkid(0)
Initial Extent:
XMin: -2226387.6992291715
YMin: 7743739.43392393
XMax: 5338515.163479533
YMax: 1.618766892528682E7
Spatial Reference: 102100
 (3857)
 LatestVCSWkid(0)
Full Extent:
XMin: -2226387.6992291715
YMin: 7743739.43392393
XMax: 5338515.163479533
YMax: 1.618766892528682E7
Spatial Reference: 102100
 (3857)
 LatestVCSWkid(0)
Pixel Size X: 0.22857142857142856
Pixel Size Y:  0.22857142857142854
Band Count: 1
Pixel Type: F32
RasterFunction Infos:  {"rasterFunctionInfos": [
 {
  "name": "LysMultihillshade",
  "description": "LysMultihillshade",
  "help": ""
 },
 {
  "name": "None",
  "description": "Make a Raster or Raster Dataset into a Function Raster Dataset.",
  "help": ""
 },
 {
  "name": "Aspect",
  "description": "This server-side function will apply an on-the-fly process to the input elevation data to generate an aspect layer.",
  "help": "Raster Function Templates may be activated in ArcMap by loading the service into the map, right clicking on the service in the Table of Contents to select Properties, and selecting the desired function from the Server Functions tab. This can also be done in ArcGIS Online. For further help: https://doc.arcgis.com/en/arcgis-online/create-maps/display-imagery.htm"
 },
 {
  "name": "Aspect_Map",
  "description": "This server-side function will apply an on-the-fly process to the input elevation data to generate a color visualization of aspect.",
  "help": "Raster Function Templates may be activated in ArcMap by loading the service into the map, right clicking on the service in the Table of Contents to select Properties, and selecting the desired function from the Server Functions tab. This can also be done in ArcGIS Online. For further help: https://doc.arcgis.com/en/arcgis-online/create-maps/display-imagery.htm"
 },
 {
  "name": "Dynamic_Height",
  "description": "This server-side function will apply an on-the-fly process to the input elevation data to generate a dynamic color visualization of the height range within the extent.",
  "help": "Raster Function Templates may be activated in ArcMap by loading the service into the map, right clicking on the service in the Table of Contents to select Properties, and selecting the desired function from the Server Functions tab. This can also be done in ArcGIS Online. For further help: https://doc.arcgis.com/en/arcgis-online/create-maps/display-imagery.htm"
 },
 {
  "name": "ElevationInFeet",
  "description": "A raster function template.",
  "help": ""
 },
 {
  "name": "Grayscale_Hillshade",
  "description": "This server-side function will apply an on-the-fly process to the input elevation values to generate a single band grayscale hillshade.",
  "help": "Raster Function Templates may be activated in ArcMap by loading the service into the map, right clicking on the service in the Table of Contents to select Properties, and selecting the desired function from the Server Functions tab. This can also be done in ArcGIS Online. For further help: https://doc.arcgis.com/en/arcgis-online/create-maps/display-imagery.htm"
 },
 {
  "name": "LysMultihillshade_v050",
  "description": "LysMultihillshade",
  "help": ""
 },
 {
  "name": "LysMultihillshade_v075",
  "description": "LysMultihillshade",
  "help": ""
 },
 {
  "name": "LysMultihillshade_v200",
  "description": "LysMultihillshade",
  "help": ""
 },
 {
  "name": "Max_15pix",
  "description": "A raster function template.",
  "help": ""
 },
 {
  "name": "Max_30pix",
  "description": "A raster function template.",
  "help": ""
 },
 {
  "name": "Min_15pix",
  "description": "A raster function template.",
  "help": ""
 },
 {
  "name": "multiskyggerelieff",
  "description": "A raster function template.",
  "help": ""
 },
 {
  "name": "multiskyggerelieff",
  "description": "A raster function template.",
  "help": ""
 },
 {
  "name": "Slope_Degrees",
  "description": "This server-side function will apply an on-the-fly process to the input elevation data to generate a service returning slope (in degrees, from 0 to 90).",
  "help": "Raster Function Templates may be activated in ArcMap by loading the service into the map, right clicking on the service in the Table of Contents to select Properties, and selecting the desired function from the Server Functions tab. This can also be done in ArcGIS Online. For further help: https://doc.arcgis.com/en/arcgis-online/create-maps/display-imagery.htm "
 },
 {
  "name": "Slope_Degrees_Map",
  "description": "A raster function template.",
  "help": ""
 },
 {
  "name": "Slope_Percent",
  "description": "This server-side function will apply an on-the-fly process to the input elevation data to generate a service returning slope, measured in percent rise (0 to 1,000 percent).",
  "help": "Raster Function Templates may be activated in ArcMap by loading the service into the map, right clicking on the service in the Table of Contents to select Properties, and selecting the desired function from the Server Functions tab. This can also be done in ArcGIS Online. For further help: https://doc.arcgis.com/en/arcgis-online/create-maps/display-imagery.htm"
 }
]}
Mensuration Capabilities: Basic
Inspection Capabilities: 
Has Histograms:  false
Has Colormap:  false
Has Multi Dimensions :  false
Rendering Rule: 
Min Scale:  5.91657527591555E8
Max Scale:  4513.988705
Copyright Text:  
Service Data Type:  esriImageServiceDataTypeElevation
Min Values:  N/A
Max Values:  N/A
Mean Values:  N/A
Standard Deviation Values:  N/A
Object ID Field:  OBJECTID
Fields: 
- 
OBJECTID
(
type: esriFieldTypeOID, alias: OBJECTID
)
- 
Shape
(
type: esriFieldTypeGeometry, alias: Shape
)
- 
Name
(
type: esriFieldTypeString, alias: Name, length: 200
)
- 
MinPS
(
type: esriFieldTypeDouble, alias: MinPS
)
- 
MaxPS
(
type: esriFieldTypeDouble, alias: MaxPS
)
- 
LowPS
(
type: esriFieldTypeDouble, alias: LowPS
)
- 
HighPS
(
type: esriFieldTypeDouble, alias: HighPS
)
- 
Category
(
type: esriFieldTypeInteger, alias: Category
, Coded Values: 
[0: Unknown]
, [1: Primary]
, [2: Overview]
, ...6 more...
)
- 
Tag
(
type: esriFieldTypeString, alias: Tag, length: 100
)
- 
GroupName
(
type: esriFieldTypeString, alias: GroupName, length: 100
)
- 
ProductName
(
type: esriFieldTypeString, alias: ProductName, length: 100
)
- 
CenterX
(
type: esriFieldTypeDouble, alias: CenterX
)
- 
CenterY
(
type: esriFieldTypeDouble, alias: CenterY
)
- 
ZOrder
(
type: esriFieldTypeInteger, alias: ZOrder
)
- 
las_project_id
(
type: esriFieldTypeInteger, alias: las_project_id
)
- 
las_project_name
(
type: esriFieldTypeString, alias: las_project_name, length: 255
)
- 
objtype
(
type: esriFieldTypeString, alias: objtype, length: 32
)
- 
oppdragsgiver
(
type: esriFieldTypeString, alias: oppdragsgiver, length: 255
)
- 
dekningsnummer
(
type: esriFieldTypeString, alias: dekningsnummer, length: 255
)
- 
fkb_laserstandard
(
type: esriFieldTypeString, alias: fkb_laserstandard, length: 255
)
- 
flyfirma
(
type: esriFieldTypeString, alias: flyfirma, length: 255
)
- 
type
(
type: esriFieldTypeString, alias: type, length: 255
)
- 
prioritet
(
type: esriFieldTypeInteger, alias: prioritet
)
- 
tilgang
(
type: esriFieldTypeString, alias: tilgang, length: 255
)
- 
prosjektnr
(
type: esriFieldTypeString, alias: prosjektnr, length: 255
)
- 
koordinatsystem
(
type: esriFieldTypeString, alias: koordinatsystem, length: 255
)
- 
hoydesystem
(
type: esriFieldTypeString, alias: hoydesystem, length: 255
)
- 
punkttetthet
(
type: esriFieldTypeDouble, alias: punkttetthet
)
- 
aarstall
(
type: esriFieldTypeInteger, alias: aarstall
)
- 
sisteflydato
(
type: esriFieldTypeDate, alias: sisteflydato, length: 8
)
- 
rapport
(
type: esriFieldTypeString, alias: rapport, length: 255
)
- 
x_min
(
type: esriFieldTypeDouble, alias: x_min
)
- 
x_max
(
type: esriFieldTypeDouble, alias: x_max
)
- 
y_min
(
type: esriFieldTypeDouble, alias: y_min
)
- 
y_max
(
type: esriFieldTypeDouble, alias: y_max
)
- 
opplosning
(
type: esriFieldTypeDouble, alias: opplosning
)
- 
published_date
(
type: esriFieldTypeDate, alias: published_date, length: 8
)
- 
leverandor_id
(
type: esriFieldTypeSmallInteger, alias: leverandor_id
)
- 
leverandor
(
type: esriFieldTypeString, alias: leverandor, length: 255
)
- 
dtm_interpolationtype
(
type: esriFieldTypeString, alias: dtm_interpolationtype, length: 255
)
- 
dom_interpolationtype
(
type: esriFieldTypeString, alias: dom_interpolationtype, length: 255
)
- 
potree_path
(
type: esriFieldTypeString, alias: potree_path, length: 255
)
- 
maxscale
(
type: esriFieldTypeInteger, alias: maxscale
)
- 
maxscalehint
(
type: esriFieldTypeInteger, alias: maxscalehint
)
- 
objektkatalog
(
type: esriFieldTypeString, alias: objektkatalog, length: 255
)
- 
eksterntnotat
(
type: esriFieldTypeString, alias: eksterntnotat, length: 2000
)
- 
laz_download_date
(
type: esriFieldTypeDate, alias: laz_download_date, length: 8
)
- 
tif_download_date
(
type: esriFieldTypeDate, alias: tif_download_date, length: 8
)
- 
Shape_Length
(
type: esriFieldTypeDouble, alias: Shape_Length
)
- 
Shape_Area
(
type: esriFieldTypeDouble, alias: Shape_Area
)
Default Mosaic Method: Northwest
Allowed Mosaic Methods:  NorthWest,Center,LockRaster,ByAttribute,Nadir,Viewpoint,Seamline,None
SortField:  
SortValue:  null
Mosaic Operator:  First
Default Compression Quality:  10000
Default Resampling Method:  Nearest
Max Record Count:  1000
Max Image Height:  15001
Max Image Width:  15000
Max Download Image Count:  20
Max Mosaic Image Count:  50
Allow Raster Function:  true
Allow Copy:  true
Allow Analysis:  true
Allow Compute TiePoints:  false
Supports Statistics:  true
Supports Advanced Queries:  true
Use StandardizedQueries:  true
Raster Type Infos: 
Name: Raster Dataset
Description: Supports all ArcGIS Raster Datasets
Help: 
Has Raster Attribute Table: false
Edit Fields Info:  null
Ownership Based AccessControl For Rasters:  null
Child Resources:
  
Info
  Statistics
  Key Properties
  Legend
  Raster Function Infos
Supported Operations:
  
Export Image
  Identify
  Measure
  Compute Histograms
  Compute Statistics Histograms
  Get Samples
  Compute Class Statistics
  Query Boundary
  Compute Pixel Location
  Compute Angles
  Validate
  Project
  Calculate Volume
  EstimateExportTilesSize
  ExportTiles