View In:
ArcGIS JavaScript
ArcGIS Online Map Viewer
ArcGIS Earth
Service Description: GeocacheDybdedata
Name: Geocache_UTM33_EUREF89/GeocacheDybdedata
Description: GeocacheDybdedata
Single Fused Map Cache: true
Tile Info:
- Height: 256
- Width: 256
- DPI: 96
-
Levels of Detail: 13
- Format: LERC
- Compression Quality: 0.0
- LERC Error: 0.05
- Origin: X: -2500000.0
Y: 9045984.0
- Spatial Reference: 25833
(25833)
LatestVCSWkid(0)
Storage Info:
- Storage Format: esriMapCacheStorageModeCompactV2
- Packet Size: 128
Extent:
XMin: -100210.0
YMin: 6399800.0
XMax: 1150200.0
YMax: 7950210.0
Spatial Reference: 25833
(25833)
LatestVCSWkid(0)
Initial Extent:
XMin: -100210.0
YMin: 6399800.0
XMax: 1150200.0
YMax: 7950210.0
Spatial Reference: 25833
(25833)
LatestVCSWkid(0)
Full Extent:
XMin: -100210.0
YMin: 6399800.0
XMax: 1150200.0
YMax: 7950210.0
Spatial Reference: 25833
(25833)
LatestVCSWkid(0)
Pixel Size X: 10.0
Pixel Size Y: 10.0
Band Count: 1
Pixel Type: F32
RasterFunction Infos: {"rasterFunctionInfos": [{
"name": "None",
"description": "",
"help": ""
}]}
Mensuration Capabilities: Basic
Inspection Capabilities:
Has Histograms: true
Has Colormap: false
Has Multi Dimensions : false
Rendering Rule:
Min Scale: 81920000
Max Scale: 2500
Copyright Text:
Service Data Type: esriImageServiceDataTypeGeneric
Min Values: -80.900001525879
Max Values: 2465.8999023438
Mean Values: 368.77047166546
Standard Deviation Values: 405.81124093682
Object ID Field:
Fields:
None
Default Mosaic Method: Center
Allowed Mosaic Methods:
SortField:
SortValue: null
Mosaic Operator: First
Default Compression Quality: 75
Default Resampling Method: Bilinear
Max Record Count: null
Max Image Height: 15000
Max Image Width: 15000
Max Download Image Count: null
Max Mosaic Image Count: null
Allow Raster Function: true
Allow Copy: true
Allow Analysis: true
Allow Compute TiePoints: false
Supports Statistics: false
Supports Advanced Queries: false
Use StandardizedQueries: true
Raster Type Infos:
Name: Raster Dataset
Description: Supports all ArcGIS Raster Datasets
Help:
Has Raster Attribute Table: false
Edit Fields Info: null
Ownership Based AccessControl For Rasters: null
Child Resources:
Info
Histograms
Statistics
Key Properties
Legend
Raster Function Infos
Supported Operations:
Export Image
Identify
Measure
Compute Histograms
Compute Statistics Histograms
Get Samples
Compute Class Statistics
Query Boundary
Compute Pixel Location
Compute Angles
Validate
Project
EstimateExportTilesSize
ExportTiles