View In:
ArcGIS JavaScript
ArcGIS Online Map Viewer
Service Description: GeocacheTerrengNTM16
Name: Geocache_NTM_EUREF89/GeocacheTerrengNTM16
Description: Digital terrengmodell (høyde over havet, uten bygninger og vegetasjon) for fastlands-Norge, Svalbard, Hopen, Bjørnøya og Jan Mayen, cachet som høydetiles for bruk som grunnflate i 3D-scener. Koordinatsystem: ETRS 1989 NTM Zone 16 (EPSG:5116). Dokumentasjon finnes <a href='https://dokumentasjon.geodataonline.no/servicename?geocacheterrengntm16' target='_blank'>her</a>.
Single Fused Map Cache: true
Tile Info:
- Height: 256
- Width: 256
- DPI: 96
-
Levels of Detail: 16
- Format: LERC
- Compression Quality: 0.0
- LERC Error: 0.05
- Origin: X: -1400000.0
Y: 3700000.0
- Spatial Reference: 5116
(5116)
LatestVCSWkid(0)
Storage Info:
- Storage Format: esriMapCacheStorageModeCompactV2
- Packet Size: 128
Extent:
XMin: -856611.70372336
YMin: 957584.9651393174
XMax: 723855.3415760858
YMax: 3579954.062677758
Spatial Reference: 5116
(5116)
LatestVCSWkid(0)
Initial Extent:
XMin: -856611.70372336
YMin: 957584.9651393174
XMax: 723855.3415760858
YMax: 3579954.062677758
Spatial Reference: 5116
(5116)
LatestVCSWkid(0)
Full Extent:
XMin: -856611.70372336
YMin: 957584.9651393174
XMax: 723855.3415760858
YMax: 3579954.062677758
Spatial Reference: 5116
(5116)
LatestVCSWkid(0)
Pixel Size X: 0.22857142857142856
Pixel Size Y: 0.22857142857142854
Band Count: 1
Pixel Type: F32
RasterFunction Infos: {
"rasterFunctionInfos": [
{
"name": "LysMultihillshade",
"description": "LysMultihillshade",
"help": ""
},
{
"name": "None",
"description": "Make a Raster or Raster Dataset into a Function Raster Dataset.",
"help": ""
},
{
"name": "Aspect",
"description": "This server-side function will apply an on-the-fly process to the input elevation data to generate an aspect layer.",
"help": "Raster Function Templates may be activated in ArcMap by loading the service into the map, right clicking on the service in the Table of Contents to select Properties, and selecting the desired function from the Server Functions tab. This can also be done in ArcGIS Online. For further help: https://doc.arcgis.com/en/arcgis-online/create-maps/display-imagery.htm"
},
{
"name": "Aspect_Map",
"description": "This server-side function will apply an on-the-fly process to the input elevation data to generate a color visualization of aspect.",
"help": "Raster Function Templates may be activated in ArcMap by loading the service into the map, right clicking on the service in the Table of Contents to select Properties, and selecting the desired function from the Server Functions tab. This can also be done in ArcGIS Online. For further help: https://doc.arcgis.com/en/arcgis-online/create-maps/display-imagery.htm"
},
{
"name": "Dynamic_Height",
"description": "This server-side function will apply an on-the-fly process to the input elevation data to generate a dynamic color visualization of the height range within the extent.",
"help": "Raster Function Templates may be activated in ArcMap by loading the service into the map, right clicking on the service in the Table of Contents to select Properties, and selecting the desired function from the Server Functions tab. This can also be done in ArcGIS Online. For further help: https://doc.arcgis.com/en/arcgis-online/create-maps/display-imagery.htm"
},
{
"name": "ElevationInFeet",
"description": "A raster function template.",
"help": ""
},
{
"name": "Grayscale_Hillshade",
"description": "This server-side function will apply an on-the-fly process to the input elevation values to generate a single band grayscale hillshade.",
"help": "Raster Function Templates may be activated in ArcMap by loading the service into the map, right clicking on the service in the Table of Contents to select Properties, and selecting the desired function from the Server Functions tab. This can also be done in ArcGIS Online. For further help: https://doc.arcgis.com/en/arcgis-online/create-maps/display-imagery.htm"
},
{
"name": "LysMultihillshade_v050",
"description": "LysMultihillshade",
"help": ""
},
{
"name": "LysMultihillshade_v075",
"description": "LysMultihillshade",
"help": ""
},
{
"name": "LysMultihillshade_v200",
"description": "LysMultihillshade",
"help": ""
},
{
"name": "Max_15pix",
"description": "A raster function template.",
"help": ""
},
{
"name": "Max_30pix",
"description": "A raster function template.",
"help": ""
},
{
"name": "Min_15pix",
"description": "A raster function template.",
"help": ""
},
{
"name": "multiskyggerelieff",
"description": "A raster function template.",
"help": ""
},
{
"name": "multiskyggerelieff",
"description": "A raster function template.",
"help": ""
},
{
"name": "Slope_Degrees",
"description": "This server-side function will apply an on-the-fly process to the input elevation data to generate a service returning slope (in degrees, from 0 to 90).",
"help": "Raster Function Templates may be activated in ArcMap by loading the service into the map, right clicking on the service in the Table of Contents to select Properties, and selecting the desired function from the Server Functions tab. This can also be done in ArcGIS Online. For further help: https://doc.arcgis.com/en/arcgis-online/create-maps/display-imagery.htm "
},
{
"name": "Slope_Degrees_Map",
"description": "A raster function template.",
"help": ""
},
{
"name": "Slope_Percent",
"description": "This server-side function will apply an on-the-fly process to the input elevation data to generate a service returning slope, measured in percent rise (0 to 1,000 percent).",
"help": "Raster Function Templates may be activated in ArcMap by loading the service into the map, right clicking on the service in the Table of Contents to select Properties, and selecting the desired function from the Server Functions tab. This can also be done in ArcGIS Online. For further help: https://doc.arcgis.com/en/arcgis-online/create-maps/display-imagery.htm"
}
]
}
Mensuration Capabilities: Basic
Inspection Capabilities:
Has Histograms: false
Has Colormap: false
Has Multi Dimensions : false
Rendering Rule:
Min Scale: 81920000
Max Scale: 2500
Copyright Text: ©️ Geodata AS, Kartverket, Geovekst og kommunene, Norsk Polarinstitutt
Service Data Type: esriImageServiceDataTypeElevation
Min Values: N/A
Max Values: N/A
Mean Values: N/A
Standard Deviation Values: N/A
Object ID Field: OBJECTID
Fields:
-
OBJECTID
(
type: esriFieldTypeOID, alias: OBJECTID
)
-
Shape
(
type: esriFieldTypeGeometry, alias: Shape
)
-
Name
(
type: esriFieldTypeString, alias: Name, length: 200
)
-
MinPS
(
type: esriFieldTypeDouble, alias: MinPS
)
-
MaxPS
(
type: esriFieldTypeDouble, alias: MaxPS
)
-
LowPS
(
type: esriFieldTypeDouble, alias: LowPS
)
-
HighPS
(
type: esriFieldTypeDouble, alias: HighPS
)
-
Category
(
type: esriFieldTypeInteger, alias: Category
,
Coded Values:
[0: Unknown]
,
[1: Primary]
,
[2: Overview]
, ...6 more...
)
-
Tag
(
type: esriFieldTypeString, alias: Tag, length: 100
)
-
GroupName
(
type: esriFieldTypeString, alias: GroupName, length: 100
)
-
ProductName
(
type: esriFieldTypeString, alias: ProductName, length: 100
)
-
CenterX
(
type: esriFieldTypeDouble, alias: CenterX
)
-
CenterY
(
type: esriFieldTypeDouble, alias: CenterY
)
-
ZOrder
(
type: esriFieldTypeInteger, alias: ZOrder
)
-
Shape_Length
(
type: esriFieldTypeDouble, alias: Shape_Length
)
-
Shape_Area
(
type: esriFieldTypeDouble, alias: Shape_Area
)
Default Mosaic Method: Northwest
Allowed Mosaic Methods: NorthWest,Center,LockRaster,ByAttribute,Nadir,Viewpoint,Seamline,None
SortField:
SortValue: null
Mosaic Operator: First
Default Compression Quality: 10000
Default Resampling Method: Nearest
Max Record Count: 1000
Max Image Height: 15000
Max Image Width: 15000
Max Download Image Count: 20
Max Mosaic Image Count: 50
Allow Raster Function: true
Allow Copy: true
Allow Analysis: true
Allow Compute TiePoints: false
Supports Statistics: true
Supports Advanced Queries: true
Use StandardizedQueries: true
Raster Type Infos:
Name: Raster Dataset
Description: Supports all ArcGIS Raster Datasets
Help:
Has Raster Attribute Table: false
Edit Fields Info: null
Ownership Based AccessControl For Rasters: null
Child Resources:
Info
Statistics
Key Properties
Legend
Raster Function Infos
Supported Operations:
Validate
Project