<Capabilities xmlns:ows="http://www.opengis.net/ows/1.1" xmlns:xlink="http://www.w3.org/1999/xlink" xmlns:xsi="http://www.w3.org/2001/XMLSchema-instance" xmlns:gml="http://www.opengis.net/gml" xsi:schemaLocation="http://www.opengis.net/wmts/1.0 http://schemas.opengis.net/wmts/1.0/wmtsGetCapabilities_response.xsd" version="1.0.0" xmlns="http://www.opengis.net/wmts/1.0">
  <ows:ServiceIdentification>
    <ows:Title>Geocache_UTM35_EUREF89_GeocacheTerrengskygge</ows:Title>
    <ows:ServiceType>OGC WMTS</ows:ServiceType>
    <ows:ServiceTypeVersion>1.0.0</ows:ServiceTypeVersion>
  </ows:ServiceIdentification>
  <ows:OperationsMetadata>
    <ows:Operation name="GetCapabilities">
      <ows:DCP>
        <ows:HTTP>
          <ows:Get xlink:href="https://services.geodataonline.no/arcgis/rest/services/Geocache_UTM35_EUREF89/GeocacheTerrengskygge/MapServer/WMTS/1.0.0/WMTSCapabilities.xml">
            <ows:Constraint name="GetEncoding">
              <ows:AllowedValues>
                <ows:Value>RESTful</ows:Value>
              </ows:AllowedValues>
            </ows:Constraint>
          </ows:Get>
          <ows:Get xlink:href="https://services.geodataonline.no/arcgis/rest/services/Geocache_UTM35_EUREF89/GeocacheTerrengskygge/MapServer/WMTS?">
            <ows:Constraint name="GetEncoding">
              <ows:AllowedValues>
                <ows:Value>KVP</ows:Value>
              </ows:AllowedValues>
            </ows:Constraint>
          </ows:Get>
        </ows:HTTP>
      </ows:DCP>
    </ows:Operation>
    <ows:Operation name="GetTile">
      <ows:DCP>
        <ows:HTTP>
          <ows:Get xlink:href="https://services.geodataonline.no/arcgis/rest/services/Geocache_UTM35_EUREF89/GeocacheTerrengskygge/MapServer/WMTS/tile/1.0.0/">
            <ows:Constraint name="GetEncoding">
              <ows:AllowedValues>
                <ows:Value>RESTful</ows:Value>
              </ows:AllowedValues>
            </ows:Constraint>
          </ows:Get>
          <ows:Get xlink:href="https://services.geodataonline.no/arcgis/rest/services/Geocache_UTM35_EUREF89/GeocacheTerrengskygge/MapServer/WMTS?">
            <ows:Constraint name="GetEncoding">
              <ows:AllowedValues>
                <ows:Value>KVP</ows:Value>
              </ows:AllowedValues>
            </ows:Constraint>
          </ows:Get>
        </ows:HTTP>
      </ows:DCP>
    </ows:Operation>
  </ows:OperationsMetadata>
  <Contents>
    <Layer>
      <ows:Title>Geocache_UTM35_EUREF89_GeocacheTerrengskygge</ows:Title>
      <ows:Identifier>Geocache_UTM35_EUREF89_GeocacheTerrengskygge</ows:Identifier>
      <ows:BoundingBox crs="urn:ogc:def:crs:EPSG::25835">
        <ows:LowerCorner>-4341172.6727 3087905.491800001</ows:LowerCorner>
        <ows:UpperCorner>3590914.272500001 9997963.9648</ows:UpperCorner>
      </ows:BoundingBox>
      <ows:WGS84BoundingBox crs="urn:ogc:def:crs:OGC:2:84">
        <ows:LowerCorner>-35.9999905552345 22.1632799257777</ows:LowerCorner>
        <ows:UpperCorner>53.9999962004629 89.9999910433616</ows:UpperCorner>
      </ows:WGS84BoundingBox>
      <Style isDefault="true">
        <ows:Title>Default Style</ows:Title>
        <ows:Identifier>default</ows:Identifier>
      </Style>
      <Format>image/jpeg</Format>
      <TileMatrixSetLink>
        <TileMatrixSet>default028mm</TileMatrixSet>
      </TileMatrixSetLink>
      <ResourceURL format="image/jpeg" resourceType="tile" template="https://services.geodataonline.no/arcgis/rest/services/Geocache_UTM35_EUREF89/GeocacheTerrengskygge/MapServer/WMTS/tile/1.0.0/Geocache_UTM35_EUREF89_GeocacheTerrengskygge/{Style}/{TileMatrixSet}/{TileMatrix}/{TileRow}/{TileCol}.jpg" />
    </Layer>
    <TileMatrixSet>
      <ows:Title>TileMatrix using 0.28mm</ows:Title>
      <ows:Abstract>The tile matrix set that has scale values calculated based on the dpi defined by OGC specification (dpi assumes 0.28mm as the physical distance of a pixel).</ows:Abstract>
      <ows:Identifier>default028mm</ows:Identifier>
      <ows:SupportedCRS>urn:ogc:def:crs:EPSG::25835</ows:SupportedCRS>
      <TileMatrix>
        <ows:Identifier>0</ows:Identifier>
        <ScaleDenominator>77409678.62888108</ScaleDenominator>
        <TopLeftCorner>-3500000 9045984</TopLeftCorner>
        <TileWidth>256</TileWidth>
        <TileHeight>256</TileHeight>
        <MatrixWidth>2</MatrixWidth>
        <MatrixHeight>2</MatrixHeight>
      </TileMatrix>
      <TileMatrix>
        <ows:Identifier>1</ows:Identifier>
        <ScaleDenominator>38704839.31444054</ScaleDenominator>
        <TopLeftCorner>-3500000 9045984</TopLeftCorner>
        <TileWidth>256</TileWidth>
        <TileHeight>256</TileHeight>
        <MatrixWidth>3</MatrixWidth>
        <MatrixHeight>3</MatrixHeight>
      </TileMatrix>
      <TileMatrix>
        <ows:Identifier>2</ows:Identifier>
        <ScaleDenominator>19352419.65722027</ScaleDenominator>
        <TopLeftCorner>-3500000 9045984</TopLeftCorner>
        <TileWidth>256</TileWidth>
        <TileHeight>256</TileHeight>
        <MatrixWidth>6</MatrixWidth>
        <MatrixHeight>5</MatrixHeight>
      </TileMatrix>
      <TileMatrix>
        <ows:Identifier>3</ows:Identifier>
        <ScaleDenominator>9676209.828610135</ScaleDenominator>
        <TopLeftCorner>-3500000 9045984</TopLeftCorner>
        <TileWidth>256</TileWidth>
        <TileHeight>256</TileHeight>
        <MatrixWidth>11</MatrixWidth>
        <MatrixHeight>9</MatrixHeight>
      </TileMatrix>
      <TileMatrix>
        <ows:Identifier>4</ows:Identifier>
        <ScaleDenominator>4838104.914305068</ScaleDenominator>
        <TopLeftCorner>-3500000 9045984</TopLeftCorner>
        <TileWidth>256</TileWidth>
        <TileHeight>256</TileHeight>
        <MatrixWidth>21</MatrixWidth>
        <MatrixHeight>18</MatrixHeight>
      </TileMatrix>
      <TileMatrix>
        <ows:Identifier>5</ows:Identifier>
        <ScaleDenominator>2419052.457152534</ScaleDenominator>
        <TopLeftCorner>-3500000 9045984</TopLeftCorner>
        <TileWidth>256</TileWidth>
        <TileHeight>256</TileHeight>
        <MatrixWidth>41</MatrixWidth>
        <MatrixHeight>35</MatrixHeight>
      </TileMatrix>
      <TileMatrix>
        <ows:Identifier>6</ows:Identifier>
        <ScaleDenominator>1209526.228576267</ScaleDenominator>
        <TopLeftCorner>-3500000 9045984</TopLeftCorner>
        <TileWidth>256</TileWidth>
        <TileHeight>256</TileHeight>
        <MatrixWidth>82</MatrixWidth>
        <MatrixHeight>69</MatrixHeight>
      </TileMatrix>
      <TileMatrix>
        <ows:Identifier>7</ows:Identifier>
        <ScaleDenominator>604763.1142881335</ScaleDenominator>
        <TopLeftCorner>-3500000 9045984</TopLeftCorner>
        <TileWidth>256</TileWidth>
        <TileHeight>256</TileHeight>
        <MatrixWidth>164</MatrixWidth>
        <MatrixHeight>138</MatrixHeight>
      </TileMatrix>
      <TileMatrix>
        <ows:Identifier>8</ows:Identifier>
        <ScaleDenominator>302381.5571440667</ScaleDenominator>
        <TopLeftCorner>-3500000 9045984</TopLeftCorner>
        <TileWidth>256</TileWidth>
        <TileHeight>256</TileHeight>
        <MatrixWidth>328</MatrixWidth>
        <MatrixHeight>275</MatrixHeight>
      </TileMatrix>
      <TileMatrix>
        <ows:Identifier>9</ows:Identifier>
        <ScaleDenominator>151190.77857203336</ScaleDenominator>
        <TopLeftCorner>-3500000 9045984</TopLeftCorner>
        <TileWidth>256</TileWidth>
        <TileHeight>256</TileHeight>
        <MatrixWidth>655</MatrixWidth>
        <MatrixHeight>550</MatrixHeight>
      </TileMatrix>
      <TileMatrix>
        <ows:Identifier>10</ows:Identifier>
        <ScaleDenominator>75595.38928601668</ScaleDenominator>
        <TopLeftCorner>-3500000 9045984</TopLeftCorner>
        <TileWidth>256</TileWidth>
        <TileHeight>256</TileHeight>
        <MatrixWidth>1309</MatrixWidth>
        <MatrixHeight>1100</MatrixHeight>
      </TileMatrix>
      <TileMatrix>
        <ows:Identifier>11</ows:Identifier>
        <ScaleDenominator>37797.69464300834</ScaleDenominator>
        <TopLeftCorner>-3500000 9045984</TopLeftCorner>
        <TileWidth>256</TileWidth>
        <TileHeight>256</TileHeight>
        <MatrixWidth>2618</MatrixWidth>
        <MatrixHeight>2200</MatrixHeight>
      </TileMatrix>
      <TileMatrix>
        <ows:Identifier>12</ows:Identifier>
        <ScaleDenominator>18898.84732150417</ScaleDenominator>
        <TopLeftCorner>-3500000 9045984</TopLeftCorner>
        <TileWidth>256</TileWidth>
        <TileHeight>256</TileHeight>
        <MatrixWidth>5235</MatrixWidth>
        <MatrixHeight>4399</MatrixHeight>
      </TileMatrix>
      <TileMatrix>
        <ows:Identifier>13</ows:Identifier>
        <ScaleDenominator>9449.423660752085</ScaleDenominator>
        <TopLeftCorner>-3500000 9045984</TopLeftCorner>
        <TileWidth>256</TileWidth>
        <TileHeight>256</TileHeight>
        <MatrixWidth>10469</MatrixWidth>
        <MatrixHeight>8797</MatrixHeight>
      </TileMatrix>
      <TileMatrix>
        <ows:Identifier>14</ows:Identifier>
        <ScaleDenominator>4724.711830376043</ScaleDenominator>
        <TopLeftCorner>-3500000 9045984</TopLeftCorner>
        <TileWidth>256</TileWidth>
        <TileHeight>256</TileHeight>
        <MatrixWidth>20938</MatrixWidth>
        <MatrixHeight>17593</MatrixHeight>
      </TileMatrix>
      <TileMatrix>
        <ows:Identifier>15</ows:Identifier>
        <ScaleDenominator>2362.3559151880213</ScaleDenominator>
        <TopLeftCorner>-3500000 9045984</TopLeftCorner>
        <TileWidth>256</TileWidth>
        <TileHeight>256</TileHeight>
        <MatrixWidth>41876</MatrixWidth>
        <MatrixHeight>35186</MatrixHeight>
      </TileMatrix>
      <TileMatrix>
        <ows:Identifier>16</ows:Identifier>
        <ScaleDenominator>1181.1779575940106</ScaleDenominator>
        <TopLeftCorner>-3500000 9045984</TopLeftCorner>
        <TileWidth>256</TileWidth>
        <TileHeight>256</TileHeight>
        <MatrixWidth>83751</MatrixWidth>
        <MatrixHeight>70371</MatrixHeight>
      </TileMatrix>
    </TileMatrixSet>
  </Contents>
  <ServiceMetadataURL xlink:href="https://services.geodataonline.no/arcgis/rest/services/Geocache_UTM35_EUREF89/GeocacheTerrengskygge/MapServer/WMTS/1.0.0/WMTSCapabilities.xml" />
</Capabilities>