{
 "currentVersion": 10.91,
 "serviceDescription": "GeocacheTerreng",
 "name": "Geocache_UTM33_EUREF89/GeocacheTerreng",
 "description": "",
 "extent": {
  "xmin": -366233.8642857142,
  "ymin": 6399724.871428573,
  "xmax": 1150255.05,
  "ymax": 8989096.985714287,
  "spatialReference": {
   "wkid": 25833,
   "latestWkid": 25833
  }
 },
 "initialExtent": {
  "xmin": -366233.8642857142,
  "ymin": 6399724.871428573,
  "xmax": 1150255.05,
  "ymax": 8989096.985714287,
  "spatialReference": {
   "wkid": 25833,
   "latestWkid": 25833
  }
 },
 "fullExtent": {
  "xmin": -366233.8642857142,
  "ymin": 6399724.871428573,
  "xmax": 1150255.05,
  "ymax": 8989096.985714287,
  "spatialReference": {
   "wkid": 25833,
   "latestWkid": 25833
  }
 },
 "hasMultidimensions": false,
 "pixelSizeX": 0.22857142857142856,
 "pixelSizeY": 0.22857142857142854,
 "datasetFormat": "AMD",
 "uncompressedSize": 300642111261668,
 "blockWidth": 2048,
 "blockHeight": 256,
 "compressionType": "None",
 "bandNames": [
  "Band_1"
 ],
 "allowCopy": true,
 "allowAnalysis": true,
 "bandCount": 1,
 "noDataValue": 0,
 "noDataValues": [
  0
 ],
 "pixelType": "F32",
 "minPixelSize": 0.6614596562526459,
 "maxPixelSize": 21674.7100160867,
 "copyrightText": "",
 "serviceDataType": "esriImageServiceDataTypeElevation",
 "serviceSourceType": "esriImageServiceSourceTypeMosaicDataset",
 "minValues": [
  0
 ],
 "maxValues": [
  2469
 ],
 "meanValues": [
  200
 ],
 "stdvValues": [
  100
 ],
 "objectIdField": "OBJECTID",
 "fields": [
  {
   "name": "OBJECTID",
   "type": "esriFieldTypeOID",
   "alias": "OBJECTID",
   "domain": null
  },
  {
   "name": "Shape",
   "type": "esriFieldTypeGeometry",
   "alias": "Shape",
   "domain": null
  },
  {
   "name": "Name",
   "type": "esriFieldTypeString",
   "alias": "Name",
   "domain": null,
   "length": 200
  },
  {
   "name": "MinPS",
   "type": "esriFieldTypeDouble",
   "alias": "MinPS",
   "domain": null
  },
  {
   "name": "MaxPS",
   "type": "esriFieldTypeDouble",
   "alias": "MaxPS",
   "domain": null
  },
  {
   "name": "LowPS",
   "type": "esriFieldTypeDouble",
   "alias": "LowPS",
   "domain": null
  },
  {
   "name": "HighPS",
   "type": "esriFieldTypeDouble",
   "alias": "HighPS",
   "domain": null
  },
  {
   "name": "Category",
   "type": "esriFieldTypeInteger",
   "alias": "Category",
   "domain": {
    "type": "codedValue",
    "name": "MosaicCatalogItemCategoryDomain",
    "description": "Catalog item categories.",
    "codedValues": [
     {
      "name": "Unknown",
      "code": 0
     },
     {
      "name": "Primary",
      "code": 1
     },
     {
      "name": "Overview",
      "code": 2
     },
     {
      "name": "Unprocessed Overview",
      "code": 3
     },
     {
      "name": "Partial Overview",
      "code": 4
     },
     {
      "name": "Inactive",
      "code": 5
     },
     {
      "name": "Uploaded",
      "code": 253
     },
     {
      "name": "Incomplete",
      "code": 254
     },
     {
      "name": "Custom",
      "code": 255
     }
    ],
    "mergePolicy": "esriMPTDefaultValue",
    "splitPolicy": "esriSPTDefaultValue"
   }
  },
  {
   "name": "Tag",
   "type": "esriFieldTypeString",
   "alias": "Tag",
   "domain": null,
   "length": 100
  },
  {
   "name": "GroupName",
   "type": "esriFieldTypeString",
   "alias": "GroupName",
   "domain": null,
   "length": 100
  },
  {
   "name": "ProductName",
   "type": "esriFieldTypeString",
   "alias": "ProductName",
   "domain": null,
   "length": 100
  },
  {
   "name": "CenterX",
   "type": "esriFieldTypeDouble",
   "alias": "CenterX",
   "domain": null
  },
  {
   "name": "CenterY",
   "type": "esriFieldTypeDouble",
   "alias": "CenterY",
   "domain": null
  },
  {
   "name": "ZOrder",
   "type": "esriFieldTypeInteger",
   "alias": "ZOrder",
   "domain": null
  },
  {
   "name": "las_project_id",
   "type": "esriFieldTypeInteger",
   "alias": "las_project_id",
   "domain": null
  },
  {
   "name": "las_project_name",
   "type": "esriFieldTypeString",
   "alias": "las_project_name",
   "domain": null,
   "length": 255
  },
  {
   "name": "objtype",
   "type": "esriFieldTypeString",
   "alias": "objtype",
   "domain": null,
   "length": 32
  },
  {
   "name": "oppdragsgiver",
   "type": "esriFieldTypeString",
   "alias": "oppdragsgiver",
   "domain": null,
   "length": 255
  },
  {
   "name": "dekningsnummer",
   "type": "esriFieldTypeString",
   "alias": "dekningsnummer",
   "domain": null,
   "length": 255
  },
  {
   "name": "fkb_laserstandard",
   "type": "esriFieldTypeString",
   "alias": "fkb_laserstandard",
   "domain": null,
   "length": 255
  },
  {
   "name": "flyfirma",
   "type": "esriFieldTypeString",
   "alias": "flyfirma",
   "domain": null,
   "length": 255
  },
  {
   "name": "type",
   "type": "esriFieldTypeString",
   "alias": "type",
   "domain": null,
   "length": 255
  },
  {
   "name": "prioritet",
   "type": "esriFieldTypeInteger",
   "alias": "prioritet",
   "domain": null
  },
  {
   "name": "tilgang",
   "type": "esriFieldTypeString",
   "alias": "tilgang",
   "domain": null,
   "length": 255
  },
  {
   "name": "prosjektnr",
   "type": "esriFieldTypeString",
   "alias": "prosjektnr",
   "domain": null,
   "length": 255
  },
  {
   "name": "koordinatsystem",
   "type": "esriFieldTypeString",
   "alias": "koordinatsystem",
   "domain": null,
   "length": 255
  },
  {
   "name": "hoydesystem",
   "type": "esriFieldTypeString",
   "alias": "hoydesystem",
   "domain": null,
   "length": 255
  },
  {
   "name": "punkttetthet",
   "type": "esriFieldTypeDouble",
   "alias": "punkttetthet",
   "domain": null
  },
  {
   "name": "aarstall",
   "type": "esriFieldTypeInteger",
   "alias": "aarstall",
   "domain": null
  },
  {
   "name": "sisteflydato",
   "type": "esriFieldTypeDate",
   "alias": "sisteflydato",
   "domain": null,
   "length": 8
  },
  {
   "name": "rapport",
   "type": "esriFieldTypeString",
   "alias": "rapport",
   "domain": null,
   "length": 255
  },
  {
   "name": "x_min",
   "type": "esriFieldTypeDouble",
   "alias": "x_min",
   "domain": null
  },
  {
   "name": "x_max",
   "type": "esriFieldTypeDouble",
   "alias": "x_max",
   "domain": null
  },
  {
   "name": "y_min",
   "type": "esriFieldTypeDouble",
   "alias": "y_min",
   "domain": null
  },
  {
   "name": "y_max",
   "type": "esriFieldTypeDouble",
   "alias": "y_max",
   "domain": null
  },
  {
   "name": "opplosning",
   "type": "esriFieldTypeDouble",
   "alias": "opplosning",
   "domain": null
  },
  {
   "name": "published_date",
   "type": "esriFieldTypeDate",
   "alias": "published_date",
   "domain": null,
   "length": 8
  },
  {
   "name": "leverandor_id",
   "type": "esriFieldTypeSmallInteger",
   "alias": "leverandor_id",
   "domain": null
  },
  {
   "name": "leverandor",
   "type": "esriFieldTypeString",
   "alias": "leverandor",
   "domain": null,
   "length": 255
  },
  {
   "name": "dtm_interpolationtype",
   "type": "esriFieldTypeString",
   "alias": "dtm_interpolationtype",
   "domain": null,
   "length": 255
  },
  {
   "name": "dom_interpolationtype",
   "type": "esriFieldTypeString",
   "alias": "dom_interpolationtype",
   "domain": null,
   "length": 255
  },
  {
   "name": "potree_path",
   "type": "esriFieldTypeString",
   "alias": "potree_path",
   "domain": null,
   "length": 255
  },
  {
   "name": "maxscale",
   "type": "esriFieldTypeInteger",
   "alias": "maxscale",
   "domain": null
  },
  {
   "name": "maxscalehint",
   "type": "esriFieldTypeInteger",
   "alias": "maxscalehint",
   "domain": null
  },
  {
   "name": "objektkatalog",
   "type": "esriFieldTypeString",
   "alias": "objektkatalog",
   "domain": null,
   "length": 255
  },
  {
   "name": "eksterntnotat",
   "type": "esriFieldTypeString",
   "alias": "eksterntnotat",
   "domain": null,
   "length": 2000
  },
  {
   "name": "laz_download_date",
   "type": "esriFieldTypeDate",
   "alias": "laz_download_date",
   "domain": null,
   "length": 8
  },
  {
   "name": "tif_download_date",
   "type": "esriFieldTypeDate",
   "alias": "tif_download_date",
   "domain": null,
   "length": 8
  },
  {
   "name": "Shape_Length",
   "type": "esriFieldTypeDouble",
   "alias": "Shape_Length",
   "domain": null
  },
  {
   "name": "Shape_Area",
   "type": "esriFieldTypeDouble",
   "alias": "Shape_Area",
   "domain": null
  }
 ],
 "capabilities": "Image,Metadata,Mensuration",
 "defaultMosaicMethod": "Northwest",
 "allowedMosaicMethods": "NorthWest,Center,LockRaster,ByAttribute,Nadir,Viewpoint,Seamline,None",
 "sortField": "",
 "sortValue": null,
 "sortAscending": true,
 "mosaicOperator": "First",
 "maxDownloadSizeLimit": 2048,
 "defaultCompressionQuality": 10000,
 "defaultResamplingMethod": "Nearest",
 "maxImageHeight": 15000,
 "maxImageWidth": 15000,
 "maxRecordCount": 1000,
 "maxDownloadImageCount": 20,
 "maxMosaicImageCount": 50,
 "singleFusedMapCache": true,
 "tileInfo": {
  "rows": 256,
  "cols": 256,
  "dpi": 96,
  "format": "LERC",
  "compressionQuality": 0,
  "lercError": 0.05,
  "origin": {
   "x": -2500000,
   "y": 9045984
  },
  "spatialReference": {
   "wkid": 25833,
   "latestWkid": 25833
  },
  "lods": [
   {
    "level": 0,
    "resolution": 21674.7100160867,
    "scale": 81920000
   },
   {
    "level": 1,
    "resolution": 10837.35500804335,
    "scale": 40960000
   },
   {
    "level": 2,
    "resolution": 5418.677504021675,
    "scale": 20480000
   },
   {
    "level": 3,
    "resolution": 2709.3387520108377,
    "scale": 10240000
   },
   {
    "level": 4,
    "resolution": 1354.6693760054188,
    "scale": 5120000
   },
   {
    "level": 5,
    "resolution": 677.3346880027094,
    "scale": 2560000
   },
   {
    "level": 6,
    "resolution": 338.6673440013547,
    "scale": 1280000
   },
   {
    "level": 7,
    "resolution": 169.33367200067735,
    "scale": 640000
   },
   {
    "level": 8,
    "resolution": 84.66683600033868,
    "scale": 320000
   },
   {
    "level": 9,
    "resolution": 42.33341800016934,
    "scale": 160000
   },
   {
    "level": 10,
    "resolution": 21.16670900008467,
    "scale": 80000
   },
   {
    "level": 11,
    "resolution": 10.583354500042335,
    "scale": 40000
   },
   {
    "level": 12,
    "resolution": 5.291677250021167,
    "scale": 20000
   },
   {
    "level": 13,
    "resolution": 2.6458386250105836,
    "scale": 10000
   },
   {
    "level": 14,
    "resolution": 1.3229193125052918,
    "scale": 5000
   },
   {
    "level": 15,
    "resolution": 0.6614596562526459,
    "scale": 2500
   }
  ]
 },
 "storageInfo": {
  "storageFormat": "esriMapCacheStorageModeCompactV2",
  "packetSize": 128
 },
 "cacheType": "Elevation",
 "allowRasterFunction": true,
 "rasterFunctionInfos": [
  {
   "name": "multiskyggerelieff",
   "description": "A raster function template.",
   "help": ""
  },
  {
   "name": "None",
   "description": "Make a Raster or Raster Dataset into a Function Raster Dataset.",
   "help": ""
  },
  {
   "name": "Aspect",
   "description": "This server-side function will apply an on-the-fly process to the input elevation data to generate an aspect layer.",
   "help": "Raster Function Templates may be activated in ArcMap by loading the service into the map, right clicking on the service in the Table of Contents to select Properties, and selecting the desired function from the Server Functions tab. This can also be done in ArcGIS Online. For further help: https://doc.arcgis.com/en/arcgis-online/create-maps/display-imagery.htm"
  },
  {
   "name": "Aspect_Map",
   "description": "This server-side function will apply an on-the-fly process to the input elevation data to generate a color visualization of aspect.",
   "help": "Raster Function Templates may be activated in ArcMap by loading the service into the map, right clicking on the service in the Table of Contents to select Properties, and selecting the desired function from the Server Functions tab. This can also be done in ArcGIS Online. For further help: https://doc.arcgis.com/en/arcgis-online/create-maps/display-imagery.htm"
  },
  {
   "name": "Dynamic_Height",
   "description": "This server-side function will apply an on-the-fly process to the input elevation data to generate a dynamic color visualization of the height range within the extent.",
   "help": "Raster Function Templates may be activated in ArcMap by loading the service into the map, right clicking on the service in the Table of Contents to select Properties, and selecting the desired function from the Server Functions tab. This can also be done in ArcGIS Online. For further help: https://doc.arcgis.com/en/arcgis-online/create-maps/display-imagery.htm"
  },
  {
   "name": "ElevationInFeet",
   "description": "A raster function template.",
   "help": ""
  },
  {
   "name": "Grayscale_Hillshade",
   "description": "This server-side function will apply an on-the-fly process to the input elevation values to generate a single band grayscale hillshade.",
   "help": "Raster Function Templates may be activated in ArcMap by loading the service into the map, right clicking on the service in the Table of Contents to select Properties, and selecting the desired function from the Server Functions tab. This can also be done in ArcGIS Online. For further help: https://doc.arcgis.com/en/arcgis-online/create-maps/display-imagery.htm"
  },
  {
   "name": "LysMultihillshade",
   "description": "LysMultihillshade",
   "help": ""
  },
  {
   "name": "LysMultihillshade_v050",
   "description": "LysMultihillshade",
   "help": ""
  },
  {
   "name": "LysMultihillshade_v075",
   "description": "LysMultihillshade",
   "help": ""
  },
  {
   "name": "LysMultihillshade_v200",
   "description": "LysMultihillshade",
   "help": ""
  },
  {
   "name": "Max_15pix",
   "description": "A raster function template.",
   "help": ""
  },
  {
   "name": "Max_30pix",
   "description": "A raster function template.",
   "help": ""
  },
  {
   "name": "Min_15pix",
   "description": "A raster function template.",
   "help": ""
  },
  {
   "name": "multiskyggerelieff",
   "description": "A raster function template.",
   "help": ""
  },
  {
   "name": "Slope_Degrees",
   "description": "This server-side function will apply an on-the-fly process to the input elevation data to generate a service returning slope (in degrees, from 0 to 90).",
   "help": "Raster Function Templates may be activated in ArcMap by loading the service into the map, right clicking on the service in the Table of Contents to select Properties, and selecting the desired function from the Server Functions tab. This can also be done in ArcGIS Online. For further help: https://doc.arcgis.com/en/arcgis-online/create-maps/display-imagery.htm "
  },
  {
   "name": "Slope_Degrees_Map",
   "description": "A raster function template.",
   "help": ""
  },
  {
   "name": "Slope_Percent",
   "description": "This server-side function will apply an on-the-fly process to the input elevation data to generate a service returning slope, measured in percent rise (0 to 1,000 percent).",
   "help": "Raster Function Templates may be activated in ArcMap by loading the service into the map, right clicking on the service in the Table of Contents to select Properties, and selecting the desired function from the Server Functions tab. This can also be done in ArcGIS Online. For further help: https://doc.arcgis.com/en/arcgis-online/create-maps/display-imagery.htm"
  }
 ],
 "rasterTypeInfos": [
  {
   "name": "Raster Dataset",
   "description": "Supports all ArcGIS Raster Datasets",
   "help": ""
  }
 ],
 "mensurationCapabilities": "Basic",
 "hasHistograms": false,
 "hasColormap": false,
 "hasRasterAttributeTable": false,
 "minScale": 81920000,
 "maxScale": 2500,
 "exportTilesAllowed": true,
 "maxExportTilesCount": 1000000,
 "supportsStatistics": true,
 "supportsAdvancedQueries": true,
 "editFieldsInfo": null,
 "ownershipBasedAccessControlForRasters": null,
 "allowComputeTiePoints": false,
 "useStandardizedQueries": true,
 "advancedQueryCapabilities": {
  "useStandardizedQueries": true,
  "supportsStatistics": true,
  "supportsOrderBy": true,
  "supportsDistinct": true,
  "supportsPagination": true
 },
 "spatialReference": {
  "wkid": 25833,
  "latestWkid": 25833
 }
}
